BEGIN:VCALENDAR
VERSION:2.0
PRODID:-//ANIMATION CULTURE SPORT FOYER RURAL PUYRICARD - ECPv6.2.9//NONSGML v1.0//EN
CALSCALE:GREGORIAN
METHOD:PUBLISH
X-WR-CALNAME:ANIMATION CULTURE SPORT FOYER RURAL PUYRICARD
X-ORIGINAL-URL:https://acs-puyricard.foyersruraux.org
X-WR-CALDESC:évènements pour ANIMATION CULTURE SPORT FOYER RURAL PUYRICARD
REFRESH-INTERVAL;VALUE=DURATION:PT1H
X-Robots-Tag:noindex
X-PUBLISHED-TTL:PT1H
BEGIN:VTIMEZONE
TZID:Europe/Paris
BEGIN:DAYLIGHT
TZOFFSETFROM:+0100
TZOFFSETTO:+0200
TZNAME:CEST
DTSTART:20250330T010000
END:DAYLIGHT
BEGIN:STANDARD
TZOFFSETFROM:+0200
TZOFFSETTO:+0100
TZNAME:CET
DTSTART:20251026T010000
END:STANDARD
END:VTIMEZONE
BEGIN:VEVENT
DTSTART;TZID=Europe/Paris:20251107T190000
DTEND;TZID=Europe/Paris:20251108T000000
DTSTAMP:20260426T050738
CREATED:20251016T074534Z
LAST-MODIFIED:20251016T095821Z
UID:10000002-1762542000-1762560000@acs-puyricard.foyersruraux.org
SUMMARY:Soirée Country 7 Novembre 2025
DESCRIPTION:🎸 Soirée Country – Sortez vos bottes et vos chapeaux ! 🤠 \n🌵 Vendredi 7 novembre à 19h à minuit📍 Salle du Ranch – Salle des fêtes de Puyricard \nPréparez-vous pour une soirée pleine d’ambiance western !Au programme :✨ Line dance & musiques country en live🍔 Petite restauration et boissons🔥 Ambiance Far West garantie ! \n👢 Venez en tenue country et entrez dans la danse !🎟️ Entrée : 10€ \n#SoiréeCountry #LineDance #AmbianceWestern #CountryParty #FarWestVibes \n 
URL:https://acs-puyricard.foyersruraux.org/evenement/soiree-country-7-novembre-2025/
LOCATION:Salle des fêtes de Puyricard\, Avenue Jean Orsini\, Puyricard\, 13540\, France
ATTACH;FMTTYPE=image/jpeg:https://acs-puyricard.foyersruraux.org/wp-content/uploads/sites/97/2025/10/soiree-7-nov-25.jpg
END:VEVENT
END:VCALENDAR