BEGIN:VCALENDAR
VERSION:2.0
PRODID:-//ANIMATION CULTURE SPORT FOYER RURAL PUYRICARD - ECPv6.2.9//NONSGML v1.0//EN
CALSCALE:GREGORIAN
METHOD:PUBLISH
X-ORIGINAL-URL:https://acs-puyricard.foyersruraux.org
X-WR-CALDESC:évènements pour ANIMATION CULTURE SPORT FOYER RURAL PUYRICARD
REFRESH-INTERVAL;VALUE=DURATION:PT1H
X-Robots-Tag:noindex
X-PUBLISHED-TTL:PT1H
BEGIN:VTIMEZONE
TZID:Europe/Paris
BEGIN:DAYLIGHT
TZOFFSETFROM:+0100
TZOFFSETTO:+0200
TZNAME:CEST
DTSTART:20260329T010000
END:DAYLIGHT
BEGIN:STANDARD
TZOFFSETFROM:+0200
TZOFFSETTO:+0100
TZNAME:CET
DTSTART:20261025T010000
END:STANDARD
END:VTIMEZONE
BEGIN:VEVENT
DTSTART;TZID=Europe/Paris:20260302T080000
DTEND;TZID=Europe/Paris:20260302T170000
DTSTAMP:20260426T005948
CREATED:20260302T103650Z
LAST-MODIFIED:20260302T103952Z
UID:10000010-1772438400-1772470800@acs-puyricard.foyersruraux.org
SUMMARY:ATELIER POTERIE MARS et AVRIL
DESCRIPTION: Atelier de poterie parent-enfant\nSamedis 7 et 28 mars 2026 \nMercredis 1 et 28 avril 2026 \n(stage sur deux séances complémentaires)\n3–6 ans : 9h15 – 10h30\n7–12 ans : 10h45 – 12h15\nPôle associatif La Providence \nLe stage se déroule sur deux séances :\nune première pour créer et façonner la pièce\,\nune seconde pour la décorer et la finaliser après cuisson. \nAccessible à partir de 3 ans\, aucun prérequis nécessaire\, juste l’envie de créer ensemble ! \nTarifs (pour les deux séances)\n\n35 € pour les 3–6 ans\n50 € pour les 7–12 ans\nCuisson et fournitures en supplément : 5 € par poterie\n\nRéservation obligatoire avant le 07/01/26\nLes places étant limitées\, ne tardez pas à vous inscrire. \nNous serons ravis de vous retrouver pour ce nouveau rendez-vous créatif et convivial\, et de partager encore de beaux moments en famille. \nPour réserver : https://forms.gle/35WmyeUJBC7cKsLD9
URL:https://acs-puyricard.foyersruraux.org/evenement/23549/
ATTACH;FMTTYPE=image/jpeg:https://acs-puyricard.foyersruraux.org/wp-content/uploads/sites/97/2026/03/Flyer-Mars-et-Avril-scaled.jpg
END:VEVENT
END:VCALENDAR