BEGIN:VCALENDAR
VERSION:2.0
PRODID:-//ANIMATION CULTURE SPORT FOYER RURAL PUYRICARD - ECPv6.2.9//NONSGML v1.0//EN
CALSCALE:GREGORIAN
METHOD:PUBLISH
X-WR-CALNAME:ANIMATION CULTURE SPORT FOYER RURAL PUYRICARD
X-ORIGINAL-URL:https://acs-puyricard.foyersruraux.org
X-WR-CALDESC:évènements pour ANIMATION CULTURE SPORT FOYER RURAL PUYRICARD
REFRESH-INTERVAL;VALUE=DURATION:PT1H
X-Robots-Tag:noindex
X-PUBLISHED-TTL:PT1H
BEGIN:VTIMEZONE
TZID:Europe/Paris
BEGIN:DAYLIGHT
TZOFFSETFROM:+0100
TZOFFSETTO:+0200
TZNAME:CEST
DTSTART:20260329T010000
END:DAYLIGHT
BEGIN:STANDARD
TZOFFSETFROM:+0200
TZOFFSETTO:+0100
TZNAME:CET
DTSTART:20261025T010000
END:STANDARD
END:VTIMEZONE
BEGIN:VEVENT
DTSTART;TZID=Europe/Paris:20260216T080000
DTEND;TZID=Europe/Paris:20260219T170000
DTSTAMP:20260426T044137
CREATED:20260121T103131Z
LAST-MODIFIED:20260121T103131Z
UID:10000008-1771228800-1771520400@acs-puyricard.foyersruraux.org
SUMMARY:STAGE DE TAPISSERIE EN MEUBLES
DESCRIPTION:L’ACS vous propose un stage de Tapisserie en meubles pendant les vacances de février.\n\ndu lundi 16 au jeudi 19 février 2026 inclus. \n                             9h – 12h\n                            13h – 17h\n\nTarifs: 252€ la semaine ou 63€ la journée (fournitures en plus du prix du stage)
URL:https://acs-puyricard.foyersruraux.org/evenement/stage-de-tapisserie-en-meubles/
ATTACH;FMTTYPE=image/jpeg:https://acs-puyricard.foyersruraux.org/wp-content/uploads/sites/97/2026/01/stage-tapisserie-10-scaled.jpg
END:VEVENT
END:VCALENDAR