BEGIN:VCALENDAR
VERSION:2.0
PRODID:-//ANIMATION CULTURE SPORT FOYER RURAL PUYRICARD - ECPv6.2.9//NONSGML v1.0//EN
CALSCALE:GREGORIAN
METHOD:PUBLISH
X-ORIGINAL-URL:https://acs-puyricard.foyersruraux.org
X-WR-CALDESC:évènements pour ANIMATION CULTURE SPORT FOYER RURAL PUYRICARD
REFRESH-INTERVAL;VALUE=DURATION:PT1H
X-Robots-Tag:noindex
X-PUBLISHED-TTL:PT1H
BEGIN:VTIMEZONE
TZID:Europe/Paris
BEGIN:DAYLIGHT
TZOFFSETFROM:+0100
TZOFFSETTO:+0200
TZNAME:CEST
DTSTART:20260329T010000
END:DAYLIGHT
BEGIN:STANDARD
TZOFFSETFROM:+0200
TZOFFSETTO:+0100
TZNAME:CET
DTSTART:20261025T010000
END:STANDARD
END:VTIMEZONE
BEGIN:VEVENT
DTSTART;TZID=Europe/Paris:20260204T183000
DTEND;TZID=Europe/Paris:20260204T230000
DTSTAMP:20260426T044145
CREATED:20260109T160809Z
LAST-MODIFIED:20260112T114128Z
UID:10000005-1770229800-1770246000@acs-puyricard.foyersruraux.org
SUMMARY:ASSEMBLEE GENERALE 2025
DESCRIPTION:📢 Convocation à notre Assemblée Générale 2025\nChers adhérents\, \nLe conseil d’administration de l’ACS Foyer Rural de Puyricard a le plaisir de vous inviter à participer à notre Assemblée Générale annuelle qui se tiendra le : \n🗓️ Mercredi 4 Février 2026 🕡 À partir de 18h30 📍 Salle des Fêtes de Puyricard \nCette réunion est un moment clé de la vie de notre association. Ce sera l’occasion de présenter le bilan de la saison 2024-2025 et d’échanger ensemble sur les projets à venir. Votre présence est essentielle pour soutenir le dynamisme de notre structure. \n🥂 La séance sera suivie d’un apéritif dînatoire pour prolonger ce moment de convivialité entre membres. \nInfos pratiques : \n\n\nAdresse : 30 Bd de Palerne\, 13540 Puyricard \n\n\nContact : 04 42 92 17 79 ou acs.foyerrural@gmail.com \n\n\nSite web : www.acs-puyricard.org \n\n\nNous comptons sur votre présence !
URL:https://acs-puyricard.foyersruraux.org/evenement/assemblee-generale-2025/
ATTACH;FMTTYPE=image/jpeg:https://acs-puyricard.foyersruraux.org/wp-content/uploads/sites/97/2026/01/Assemblee-generale-21-x-30-cm-1-scaled.jpg
END:VEVENT
END:VCALENDAR