BEGIN:VCALENDAR
VERSION:2.0
PRODID:-//ANIMATION CULTURE SPORT FOYER RURAL PUYRICARD - ECPv6.2.9//NONSGML v1.0//EN
CALSCALE:GREGORIAN
METHOD:PUBLISH
X-WR-CALNAME:ANIMATION CULTURE SPORT FOYER RURAL PUYRICARD
X-ORIGINAL-URL:https://acs-puyricard.foyersruraux.org
X-WR-CALDESC:évènements pour ANIMATION CULTURE SPORT FOYER RURAL PUYRICARD
REFRESH-INTERVAL;VALUE=DURATION:PT1H
X-Robots-Tag:noindex
X-PUBLISHED-TTL:PT1H
BEGIN:VTIMEZONE
TZID:Europe/Paris
BEGIN:DAYLIGHT
TZOFFSETFROM:+0100
TZOFFSETTO:+0200
TZNAME:CEST
DTSTART:20260329T010000
END:DAYLIGHT
BEGIN:STANDARD
TZOFFSETFROM:+0200
TZOFFSETTO:+0100
TZNAME:CET
DTSTART:20261025T010000
END:STANDARD
END:VTIMEZONE
BEGIN:VEVENT
DTSTART;TZID=Europe/Paris:20260131T091500
DTEND;TZID=Europe/Paris:20260131T121500
DTSTAMP:20260426T044121
CREATED:20260105T162217Z
LAST-MODIFIED:20260121T103245Z
UID:10000004-1769850900-1769861700@acs-puyricard.foyersruraux.org
SUMMARY:Le retour de l’atelier de poterie parent-enfant – Stage de janvier ❄️
DESCRIPTION: Atelier de poterie parent-enfant\nSamedis 10 et 31 janvier 2026\n(stage sur deux séances complémentaires)\n3–6 ans : 9h15 – 10h30\n7–12 ans : 10h45 – 12h15\nPôle associatif La Providence \nLe stage se déroule sur deux séances :\nune première pour créer et façonner la pièce\,\nune seconde pour la décorer et la finaliser après cuisson. \nAccessible à partir de 3 ans\, aucun prérequis nécessaire\, juste l’envie de créer ensemble ! \nTarifs (pour les deux séances)\n\n35 € pour les 3–6 ans\n50 € pour les 7–12 ans\nCuisson et fournitures en supplément : 5 € par poterie\n\nRéservation obligatoire avant le 07/01/26 \nLes places étant limitées\, ne tardez pas à vous inscrire. \nNous serons ravis de vous retrouver pour ce nouveau rendez-vous créatif et convivial\, et de partager encore de beaux moments en famille. \nPour réserver : https://forms.gle/35WmyeUJBC7cKsLD9
URL:https://acs-puyricard.foyersruraux.org/evenement/le-retour-de-latelier-de-poterie-parent-enfant-stage-de-janvier-%e2%9d%84%ef%b8%8f/
ATTACH;FMTTYPE=image/jpeg:https://acs-puyricard.foyersruraux.org/wp-content/uploads/sites/97/2026/01/25-26-Flyers-activites-21-x-30-cm-1-1-scaled.jpg
END:VEVENT
END:VCALENDAR